BEGIN:VCALENDAR
PRODID:-//Coffey Communications/SiteAssist/Calendar//EN
VERSION:2.0
METHOD:REQUEST
BEGIN:VEVENT
DTSTART:20260630T171500Z
DTEND:20260630T231500Z
DTSTAMP:20260420T123842Z
UID:FAFB4ABEDFFF4976AB8DA1F4CB10ABB3@www.bartletthospital.org
CREATED:20260420T123842Z
X-ALT-DESC;FMTTYPE=text/html:<h2 style="text-align: center;">A MESSAGE TO PARENTS</h2>
<p>Bartlett Regional Hospital continues to offer the Safe Sitter class for students in grades 6-8<sup>th</sup> grade interested in learning more about babysitting or watching younger siblings. Safe Sitter is a medically accurate program that teaches young adolescents how to handle emergencies when caring for children. This class teaches safe and nurturing childcare techniques, behavior management skills and appropriate responses to medical emergencies. This 6-hour class will teach students:</p>
<p>-Safety skills to prevent unsafe situations and deal with different dangers</p>
<p>-Childcare skills to better manage behavior of children and child development based on the age and stage of the children</p>
<p>-First aid and rescue skills to learn the skill of choking rescue and how to respond and treat different injuries and illnesses</p>
<p>-Life and business skills to learn how to screen a babysitting job, discuss their fee and work with employers of babysitting jobs.</p>
<p style="text-align: center;"><strong>Class for 6th - 8th graders. Bring a brown bag lunch and snack.</strong></p>
<h3 style="text-align: center;">If your child is feeling sick please have them stay home.</h3>
<h3>Registration is mandatory.</h3>
LAST-MODIFIED:20260420T123842Z
LOCATION:Robert F. Valliant Administration and Business Center, 3254 Hospital Drive
SEQUENCE:0
STATUS:CONFIRMED
SUMMARY:Safe Sitter Training
TRANSP:OPAQUE
BEGIN:VALARM
TRIGGER:-PT60M
DURATION:PT1M
ACTION:DISPLAY
DESCRIPTION:Safe Sitter Training
END:VALARM
END:VEVENT
END:VCALENDAR
